BEGIN:VCALENDAR
VERSION:2.0
PRODID:icalendar-ruby
CALSCALE:GREGORIAN
METHOD:PUBLISH
BEGIN:VEVENT
DTSTAMP:20260423T063121Z
UID:9-386118@romepresbyterian.tithelysetup5.com
DTSTART:20261027T170000Z
DTEND:20261027T183000Z
CLASS:PUBLIC
CREATED:20260422T195220
DESCRIPTION:
LAST-MODIFIED:20260422T195220
LOCATION:RPC Library
SUMMARY:Women's Bible Study
URL;VALUE=URI:https://romepres.com/events/womens-bible-study/2026-10-27
ATTACH;FILENAME=FLhWC.jpg;FMTTYPE=image/jpeg:https://dq5pwpg1q8ru0.cloudfro
 nt.net/2025/06/18/16/39/21/e7613fc5-d640-4476-8e87-bf9f3857feb3/FLhWC.jpg
END:VEVENT
END:VCALENDAR
