BEGIN:VCALENDAR
VERSION:2.0
PRODID:icalendar-ruby
CALSCALE:GREGORIAN
METHOD:PUBLISH
BEGIN:VEVENT
DTSTAMP:20260423T184230Z
UID:6-386994@romepresbyterian.tithelysetup5.com
DTSTART:20261101T173000Z
DTEND:20261101T184500Z
CLASS:PUBLIC
CREATED:20260423T111122
DESCRIPTION:
LAST-MODIFIED:20260423T111122
LOCATION:
SUMMARY:Sunday Worship
URL;VALUE=URI:https://romepres.com/events/sunday-worship/2026-11-01
END:VEVENT
END:VCALENDAR
