BEGIN:VCALENDAR
VERSION:2.0
PRODID:icalendar-ruby
CALSCALE:GREGORIAN
METHOD:PUBLISH
BEGIN:VEVENT
DTSTAMP:20260423T170926Z
UID:6-386683@romepresbyterian.tithelysetup5.com
DTSTART:20261025T163000Z
DTEND:20261025T174500Z
CLASS:PUBLIC
CREATED:20260423T081511
DESCRIPTION:
LAST-MODIFIED:20260423T081511
LOCATION:
SUMMARY:Sunday Worship
URL;VALUE=URI:https://romepres.com/events/sunday-worship/2026-10-25
END:VEVENT
END:VCALENDAR
