BEGIN:VCALENDAR
VERSION:2.0
PRODID:icalendar-ruby
CALSCALE:GREGORIAN
METHOD:PUBLISH
BEGIN:VEVENT
DTSTAMP:20260423T141433Z
UID:6-386371@romepresbyterian.tithelysetup5.com
DTSTART:20261011T163000Z
DTEND:20261011T174500Z
CLASS:PUBLIC
CREATED:20260423T052236
DESCRIPTION:
LAST-MODIFIED:20260423T052236
LOCATION:
SUMMARY:Sunday Worship
URL;VALUE=URI:https://romepres.com/events/sunday-worship/2026-10-11
END:VEVENT
END:VCALENDAR
