BEGIN:VCALENDAR
VERSION:2.0
PRODID:icalendar-ruby
CALSCALE:GREGORIAN
METHOD:PUBLISH
BEGIN:VEVENT
DTSTAMP:20260421T004137Z
UID:10-382162@romepresbyterian.tithelysetup5.com
DTSTART:20261009T020000Z
DTEND:20261009T033000Z
CLASS:PUBLIC
CREATED:20260420T152511
DESCRIPTION:
LAST-MODIFIED:20260420T152511
LOCATION:RPC Library
SUMMARY:Men's Bible Study
URL;VALUE=URI:https://romepres.com/events/mens-bible-study/2026-10-08
ATTACH;FILENAME=N00Z.jpg;FMTTYPE=image/jpeg:https://dq5pwpg1q8ru0.cloudfron
 t.net/2025/06/18/16/42/06/262d4b60-eef5-4852-ac07-4c8c853d76e4/N00Z.jpg
END:VEVENT
END:VCALENDAR
