BEGIN:VCALENDAR
VERSION:2.0
PRODID:icalendar-ruby
CALSCALE:GREGORIAN
METHOD:PUBLISH
BEGIN:VEVENT
DTSTAMP:20260420T232026Z
UID:11-382234@romepresbyterian.tithelysetup5.com
DTSTART:20261011T010000Z
DTEND:20261011T020000Z
CLASS:PUBLIC
CREATED:20260420T152511
DESCRIPTION:
LAST-MODIFIED:20260420T152511
LOCATION:
SUMMARY:AA Meetings
URL;VALUE=URI:https://romepres.com/events/aa-meetings/2026-10-10
ATTACH;FILENAME=smallgroups-01.jpg;FMTTYPE=image/jpeg:https://dq5pwpg1q8ru0
 .cloudfront.net/2025/06/18/16/51/49/d4d298fe-39eb-471d-aaef-c3931dff7b3b/s
 mallgroups-01.jpg
END:VEVENT
END:VCALENDAR
